BEGIN:VCALENDAR
VERSION:2.0
PRODID:-//Buchhandlung beim Augarten - ECPv4.8.0.1//NONSGML v1.0//EN
CALSCALE:GREGORIAN
METHOD:PUBLISH
X-WR-CALNAME:Buchhandlung beim Augarten
X-ORIGINAL-URL:https://www.buchhandlungbeimaugarten.at
X-WR-CALDESC:Veranstaltungen für Buchhandlung beim Augarten
BEGIN:VEVENT
DTSTART;TZID=Europe/Vienna:20231214T160000
DTEND;TZID=Europe/Vienna:20231214T190000
DTSTAMP:20260423T154059
CREATED:20231126T143425Z
LAST-MODIFIED:20231126T143458Z
UID:8479-1702569600-1702580400@www.buchhandlungbeimaugarten.at
SUMMARY:Werkstattgespräch "Weihnachten in Wiesenwald"  mit Stephan Wolf und Jolanda Richter
DESCRIPTION:teilen teilen twittern merken mitteilen teilen teilen e-mail info 
URL:https://www.buchhandlungbeimaugarten.at/veranstaltung/werkstattgespraech-weihnachten-in-wiesenwald-mit-stephan-wolf-und-jolanda-richter-2/
LOCATION:Buchhandlung beim Augarten\, Castellezgasse 28/10\, Wien Bezirk 1020\, 1020\, Österreich
ATTACH;FMTTYPE=image/jpeg:https://www.buchhandlungbeimaugarten.at/wp-content/uploads/Richter_Weihnachten_Wiesenwald_3D_srgb_frei-2.jpg
END:VEVENT
END:VCALENDAR