BEGIN:VCALENDAR
VERSION:2.0
PRODID:-//Buchhandlung beim Augarten - ECPv4.8.0.1//NONSGML v1.0//EN
CALSCALE:GREGORIAN
METHOD:PUBLISH
X-WR-CALNAME:Buchhandlung beim Augarten
X-ORIGINAL-URL:https://www.buchhandlungbeimaugarten.at
X-WR-CALDESC:Veranstaltungen für Buchhandlung beim Augarten
BEGIN:VEVENT
DTSTART;TZID=Europe/Vienna:20181107T193000
DTEND;TZID=Europe/Vienna:20181107T210000
DTSTAMP:20260423T210754
CREATED:20180916T141701Z
LAST-MODIFIED:20181023T060213Z
UID:3274-1541619000-1541624400@www.buchhandlungbeimaugarten.at
SUMMARY:Szenische Lesung "Vererbte Lügen" im Rahmen der Buch Wien
DESCRIPTION:  \n  \nteilen teilen twittern merken mitteilen teilen teilen e-mail info 
URL:https://www.buchhandlungbeimaugarten.at/veranstaltung/szenische-lesung-vererbte-luegen-im-rahmen-der-buch-wien/
LOCATION:Königs Welt\, Servitengasse 6\, Wien\, Wien\, 1090\, Österreich
ATTACH;FMTTYPE=image/png:https://www.buchhandlungbeimaugarten.at/wp-content/uploads/Königswelt.png
ORGANIZER;CN="Buchhandlung%20beim%20Augarten":MAILTO:lesung@beimaugarten.at
END:VEVENT
END:VCALENDAR