BEGIN:VCALENDAR
VERSION:2.0
PRODID:-//Buchhandlung beim Augarten - ECPv4.8.0.1//NONSGML v1.0//EN
CALSCALE:GREGORIAN
METHOD:PUBLISH
X-WR-CALNAME:Buchhandlung beim Augarten
X-ORIGINAL-URL:https://www.buchhandlungbeimaugarten.at
X-WR-CALDESC:Veranstaltungen für Buchhandlung beim Augarten
BEGIN:VEVENT
DTSTART;VALUE=DATE:20170629
DTEND;VALUE=DATE:20170703
DTSTAMP:20260423T204843
CREATED:20170220T154846Z
LAST-MODIFIED:20170310T141158Z
UID:1208-1498694400-1499039999@www.buchhandlungbeimaugarten.at
SUMMARY:Mainzer Minipressen Messe
DESCRIPTION:24. Internationale Buchmesse der Kleinverlage und Handpressen \n  \nteilen teilen twittern merken mitteilen teilen teilen e-mail info 
URL:https://www.buchhandlungbeimaugarten.at/veranstaltung/mainzer-minipressen-messe/
LOCATION:Rheingoldhalle Mainz\, Rheinstrasse 36\, Mainz\, 55116\, Deutschland
ATTACH;FMTTYPE=image/png:https://www.buchhandlungbeimaugarten.at/wp-content/uploads/minipressen-messe_rot_rechts-blickend_160.png
END:VEVENT
END:VCALENDAR