BEGIN:VCALENDAR
VERSION:2.0
PRODID:-//Buchhandlung beim Augarten - ECPv4.8.0.1//NONSGML v1.0//EN
CALSCALE:GREGORIAN
METHOD:PUBLISH
X-WR-CALNAME:Buchhandlung beim Augarten
X-ORIGINAL-URL:https://www.buchhandlungbeimaugarten.at
X-WR-CALDESC:Veranstaltungen für Buchhandlung beim Augarten
BEGIN:VEVENT
DTSTART;TZID=Europe/Vienna:20190526T150000
DTEND;TZID=Europe/Vienna:20190526T170000
DTSTAMP:20260423T224220
CREATED:20190508T092341Z
LAST-MODIFIED:20190508T092759Z
UID:3866-1558882800-1558890000@www.buchhandlungbeimaugarten.at
SUMMARY:Literaturpreis Ohrenschmaus
DESCRIPTION:\n\n\n\n\n\n\nDer Ohrenschmaus und das Donaukanaltreiben treffen sich! \n\nDer Literaturpreis Ohrenschmaus und das Badeschiff Wien laden im Rahmen des Donaukanaltreibens\nzu einer inklusiven Lesung ein.\nMenschen mit Lernbehinderung und vor allem mit Schreibtalent stellen sich gegen die Strömung \nund lesen ihre einzigartige Literatur selbst vor.\n\nWir freuen uns\, dass wir Ohrenschmaus-Autorin Imanja Kintaert und Ohrenschmaus-Autor David Sylvester Marek\nauf der Bühne begrüßen dürfen.\nImanja Kintaert hat bereits ein Praktikum am Badeschiff absolviert.\nUnd auch David S. Marek und das Badeschiff sind alte Bekannte. Am Schiff hat er im Herbst 2018 sein 1. Buch präsentiert.\n\nFür beide ist es also eine Rückkehr in einen bekannten Hafen. \n* Wann: Sonntag\, 26.05.2019\, 15 Uhr\n* Wo: Badeschiff Wien\, Festland \n\n\nWeitere wichtige Informationen:\n* Bei Schlechtwetter findet die Lesung im Bauch (=Hauptdeck) des Badeschiffs statt.\n* Der Eintritt ist frei.\n\n* Barrierefreiheit ist gegeben. \nKommen Sie\, lassen Sie sich literarische treiben und vor allem lauschen Sie. \n\nteilen teilen twittern merken mitteilen teilen teilen e-mail info 
URL:https://www.buchhandlungbeimaugarten.at/veranstaltung/literaturpreis-ohrenschmaus-2/
LOCATION:Badeschiff Wien\, Schwedenplatz\, Wien\, Wien\, 1010\, Österreich
ATTACH;FMTTYPE=image/png:https://www.buchhandlungbeimaugarten.at/wp-content/uploads/Ohrenschmaus.png
END:VEVENT
END:VCALENDAR