BEGIN:VCALENDAR
VERSION:2.0
PRODID:-//Buchhandlung beim Augarten - ECPv4.8.0.1//NONSGML v1.0//EN
CALSCALE:GREGORIAN
METHOD:PUBLISH
X-WR-CALNAME:Buchhandlung beim Augarten
X-ORIGINAL-URL:https://www.buchhandlungbeimaugarten.at
X-WR-CALDESC:Veranstaltungen für Buchhandlung beim Augarten
BEGIN:VEVENT
DTSTART;TZID=Europe/Vienna:20230627T190000
DTEND;TZID=Europe/Vienna:20230627T210000
DTSTAMP:20260425T125508
CREATED:20230620T143426Z
LAST-MODIFIED:20230620T143426Z
UID:8066-1687892400-1687899600@www.buchhandlungbeimaugarten.at
SUMMARY:Lesung mit Maria Lehner
DESCRIPTION:Gelesen werden unterhaltsame\, humorvolle und nachdenkliche Erzählungen der Autorin \nteilen teilen twittern merken mitteilen teilen teilen e-mail info 
URL:https://www.buchhandlungbeimaugarten.at/veranstaltung/lesung-mit-maria-lehner/
LOCATION:Bezirksmuseum Landstraße\, Sechskrügelgasse 11\, Wien Landstraße\, Wien\, 1030\, Österreich
ATTACH;FMTTYPE=image/jpeg:https://www.buchhandlungbeimaugarten.at/wp-content/uploads/23-5-29-Flyer-Dippelreiter-BezMuseum-3.jpg
END:VEVENT
END:VCALENDAR