BEGIN:VCALENDAR
VERSION:2.0
PRODID:-//Buchhandlung beim Augarten - ECPv4.8.0.1//NONSGML v1.0//EN
CALSCALE:GREGORIAN
METHOD:PUBLISH
X-WR-CALNAME:Buchhandlung beim Augarten
X-ORIGINAL-URL:https://www.buchhandlungbeimaugarten.at
X-WR-CALDESC:Veranstaltungen für Buchhandlung beim Augarten
BEGIN:VEVENT
DTSTART;TZID=Europe/Vienna:20181023T190000
DTEND;TZID=Europe/Vienna:20181023T210000
DTSTAMP:20260423T190015
CREATED:20181023T062614Z
LAST-MODIFIED:20181023T062614Z
UID:3368-1540321200-1540328400@www.buchhandlungbeimaugarten.at
SUMMARY:Lesung Anne Goldmann aus "Das größere Verbrechen"
DESCRIPTION:Die Krimiautorin Anne Goldmann liest anläßlich der Wiener Kriminacht 2018 aus ihrem neuen Buch “Das größere Verbrechen”\, erschienen bei Ariadne. \n \n  \n  \nteilen teilen twittern merken mitteilen teilen teilen e-mail info 
URL:https://www.buchhandlungbeimaugarten.at/veranstaltung/lesung-anne-goldmann-aus-das-groessere-verbrechen/
LOCATION:Gustl kocht\, Erdbergstraße 21\, Wien\, 1030\, Österreich
ATTACH;FMTTYPE=image/jpeg:https://www.buchhandlungbeimaugarten.at/wp-content/uploads/krimilogo_kriminacht_wien.jpg
END:VEVENT
END:VCALENDAR