BEGIN:VCALENDAR
VERSION:2.0
PRODID:-//Buchhandlung beim Augarten - ECPv4.8.0.1//NONSGML v1.0//EN
CALSCALE:GREGORIAN
METHOD:PUBLISH
X-WR-CALNAME:Buchhandlung beim Augarten
X-ORIGINAL-URL:https://www.buchhandlungbeimaugarten.at
X-WR-CALDESC:Veranstaltungen für Buchhandlung beim Augarten
BEGIN:VEVENT
DTSTART;TZID=Europe/Vienna:20180511T140000
DTEND;TZID=Europe/Vienna:20180513T170000
DTSTAMP:20260423T204740
CREATED:20180421T105206Z
LAST-MODIFIED:20180421T110134Z
UID:2949-1526047200-1526230800@www.buchhandlungbeimaugarten.at
SUMMARY:krilit 2018
DESCRIPTION:Bereits zum neunten Mal werden sie veranstaltet – heuer vom 11. bis 13. Mai 2018 – die „Kritischen Literaturtage“ in Wien\, DIE Literaturmesse abseits des kommerziellen Mainstreams. \nUnabhängige und (mittel)kleine Verlage aus Österreich und dem deutschsprachigen Raum mit alternativen\, gesellschafts- und sozialkritischen Büchern präsentieren ihr Sortiment. Auch politische Initiativen\, die Zeitschriften und Broschüren herausgeben\, sind dabei.\nEin ansprechendes Rahmenprogramm mit Buchpräsentationen\, Lesungen\, Podiumsdiskussionen etc. bei freiem Eintritt bringt interessierte BesucherInnen\, AutorInnen und VerlegerInnen in Kontakt. \nMit Kinderbuchausstellung und (Vor)Leseecke „Yuki liest!“ Motto: Mutige Mädchen\, starke Frauen. \nKunstSozialRaum Brunnenpassage \nBrunnengasse 71/Yppenplatz \, 1160 Wien\n(U6 Josefstädterstraße) \nOrganisation: Mag.a Ulli Fuchs\, Labor Alltagskultur \nteilen teilen twittern merken mitteilen teilen teilen e-mail info 
URL:https://www.buchhandlungbeimaugarten.at/veranstaltung/krilit-2018/
LOCATION:KunstSozialRaum\, Brunnengasse 71/Yppenplatz\, Wien\, Wien\, 1160\, Österreich
ATTACH;FMTTYPE=image/jpeg:https://www.buchhandlungbeimaugarten.at/wp-content/uploads/krilit-Logo-neu.jpg
END:VEVENT
END:VCALENDAR