BEGIN:VCALENDAR
VERSION:2.0
PRODID:-//Buchhandlung beim Augarten - ECPv4.8.0.1//NONSGML v1.0//EN
CALSCALE:GREGORIAN
METHOD:PUBLISH
X-WR-CALNAME:Buchhandlung beim Augarten
X-ORIGINAL-URL:https://www.buchhandlungbeimaugarten.at
X-WR-CALDESC:Veranstaltungen für Buchhandlung beim Augarten
BEGIN:VEVENT
DTSTART;TZID=Europe/Vienna:20191211T180000
DTEND;TZID=Europe/Vienna:20191211T200000
DTSTAMP:20260424T022918
CREATED:20191128T112224Z
LAST-MODIFIED:20191128T112224Z
UID:4342-1576087200-1576094400@www.buchhandlungbeimaugarten.at
SUMMARY:Inklusive Weihnachtslesung
DESCRIPTION:teilen teilen twittern merken mitteilen teilen teilen e-mail info 
URL:https://www.buchhandlungbeimaugarten.at/veranstaltung/inklusive-weihnachtslesung/
LOCATION:Badeschiff Wien\, Schwedenplatz\, Wien\, Wien\, 1010\, Österreich
ATTACH;FMTTYPE=image/jpeg:https://www.buchhandlungbeimaugarten.at/wp-content/uploads/19-11-27-Weihnachtslesung.jpg
END:VEVENT
END:VCALENDAR