BEGIN:VCALENDAR
VERSION:2.0
PRODID:-//Buchhandlung beim Augarten - ECPv4.8.0.1//NONSGML v1.0//EN
CALSCALE:GREGORIAN
METHOD:PUBLISH
X-WR-CALNAME:Buchhandlung beim Augarten
X-ORIGINAL-URL:https://www.buchhandlungbeimaugarten.at
X-WR-CALDESC:Veranstaltungen für Buchhandlung beim Augarten
BEGIN:VEVENT
DTSTART;TZID=Europe/Vienna:20200814T103000
DTEND;TZID=Europe/Vienna:20200814T180000
DTSTAMP:20260424T055215
CREATED:20200730T112217Z
LAST-MODIFIED:20200730T112217Z
UID:5340-1597401000-1597428000@www.buchhandlungbeimaugarten.at
SUMMARY:Gartentage mit Leseinseln
DESCRIPTION:teilen teilen twittern merken mitteilen teilen teilen e-mail info 
URL:https://www.buchhandlungbeimaugarten.at/veranstaltung/gartentage-mit-leseinseln/
LOCATION:Popup Buchhandlung\, Flötzersteig 13\, Wien\, Wien\, 1160\, Österreich
ATTACH;FMTTYPE=image/jpeg:https://www.buchhandlungbeimaugarten.at/wp-content/uploads/Gartentage.jpg
ORGANIZER;CN="Buchhandlung%20beim%20Augarten":MAILTO:lesung@beimaugarten.at
END:VEVENT
END:VCALENDAR