BEGIN:VCALENDAR
VERSION:2.0
PRODID:-//Buchhandlung beim Augarten - ECPv4.8.0.1//NONSGML v1.0//EN
CALSCALE:GREGORIAN
METHOD:PUBLISH
X-WR-CALNAME:Buchhandlung beim Augarten
X-ORIGINAL-URL:https://www.buchhandlungbeimaugarten.at
X-WR-CALDESC:Veranstaltungen für Buchhandlung beim Augarten
BEGIN:VEVENT
DTSTART;TZID=Europe/Vienna:20180423T183000
DTEND;TZID=Europe/Vienna:20180423T220000
DTSTAMP:20260423T223732
CREATED:20180327T083605Z
LAST-MODIFIED:20180327T090909Z
UID:2917-1524508200-1524520800@www.buchhandlungbeimaugarten.at
SUMMARY:Einzigartig in Wien.
DESCRIPTION:Vortrag von Dr. Peter Autengruber \nWien wird einiges nachgesagt: Die grantigsten Kellner und Kellnerinnen würden den besten Apfelstrudel servieren\, Wienerinnen und Wiener hätten ein besonderes Verhältnis zum Tod – und überhaupt sei die Donaumetropole ganz anders und sowieso einzigartig. Wohl auch deshalb wurde Wien wiederholt zur lebenswertesten Stadt der Welt gekürt. \nDoch Wien hat noch viel mehr Superlative zu bieten. Manche davon spektakulär\, andere eher skurril: Im Bahnhof Wien Praterstern hängt das längste Emailschild der Welt\, im Hofmobiliendepot steht die weltgrößte Spucknapfsammlung und am Stadtrand produziert ein Bauer eine weltweit einzigartige Delikatesse\, die Schneckenleber. \nOhne Anspruch auf Vollständigkeit haben Peter Autengruber und Marliese Mendel\, beide echte Wien-Experten\, Rekorde gesammelt – berühmte\, weniger bekannte\, kuriose und überraschende. Lassen Sie sich überraschen! \nDr. Peter Autengruber ist Lehrbeauftragter am Institut für Zeitgeschichte und Leiter des Fachverlags ÖGB Verlag. Zahlreiche Publikationen mit Bezug zu Wiener Gemeindebauten und Straßennamen. \nHier geht’s zur Online Anmeldung oder telefonisch unter 01 512 79 32 \nteilen teilen twittern merken mitteilen teilen teilen e-mail info 
URL:https://www.buchhandlungbeimaugarten.at/veranstaltung/einzigartig-in-wien-vortrag-von-dr-peter-autengruber/
LOCATION:Vortragssaal der Österr. Kulturvereinigung\, Hanuschgasse 3/ Hof 2/Stg. 4/1. Stock\, Wien\, 1010
ATTACH;FMTTYPE=image/jpeg:https://www.buchhandlungbeimaugarten.at/wp-content/uploads/18-3-27-Ã–KV-Logo-Zentriert.jpg
ORGANIZER;CN="%C3%96sterreichische%20Kulturvereinigung":MAILTO:office@kulturvereinigung.at
END:VEVENT
END:VCALENDAR