BEGIN:VCALENDAR
VERSION:2.0
PRODID:-//Buchhandlung beim Augarten - ECPv4.8.0.1//NONSGML v1.0//EN
CALSCALE:GREGORIAN
METHOD:PUBLISH
X-WR-CALNAME:Buchhandlung beim Augarten
X-ORIGINAL-URL:https://www.buchhandlungbeimaugarten.at
X-WR-CALDESC:Veranstaltungen für Buchhandlung beim Augarten
BEGIN:VEVENT
DTSTART;TZID=Europe/Vienna:20170427T190000
DTEND;TZID=Europe/Vienna:20170427T220000
DTSTAMP:20260423T223754
CREATED:20170419T111955Z
LAST-MODIFIED:20170419T112226Z
UID:1758-1493319600-1493330400@www.buchhandlungbeimaugarten.at
SUMMARY:Der Reissalon. Eine Lesung mit Patricia Brooks
DESCRIPTION:Nach der Lesung findet eine Weinverkostung mit Weinen der Familie Schlosser statt. \nteilen teilen twittern merken mitteilen teilen teilen e-mail info 
URL:https://www.buchhandlungbeimaugarten.at/veranstaltung/der-reissalon-eine-lesung-mit-patricia-brooks/
LOCATION:Republikanischer Club\, Rockhgasse 1\, Wien\, Wien\, 1010\, Österreich
ATTACH;FMTTYPE=image/jpeg:https://www.buchhandlungbeimaugarten.at/wp-content/uploads/17-3-5-Brooks_Cover-U1.jpg
END:VEVENT
END:VCALENDAR