BEGIN:VCALENDAR
VERSION:2.0
PRODID:-//Buchhandlung beim Augarten - ECPv4.8.0.1//NONSGML v1.0//EN
CALSCALE:GREGORIAN
METHOD:PUBLISH
X-WR-CALNAME:Buchhandlung beim Augarten
X-ORIGINAL-URL:https://www.buchhandlungbeimaugarten.at
X-WR-CALDESC:Veranstaltungen für Buchhandlung beim Augarten
BEGIN:VEVENT
DTSTART;TZID=Europe/Vienna:20180407T150000
DTEND;TZID=Europe/Vienna:20180407T170000
DTSTAMP:20260423T204940
CREATED:20180326T134144Z
LAST-MODIFIED:20180326T135056Z
UID:2906-1523113200-1523120400@www.buchhandlungbeimaugarten.at
SUMMARY:Christine Auer liest aus ihrem Kinderbuch "Das E am See"
DESCRIPTION:Das E hat einen großen Wunsch: Es möchte auf einem See dahin gleiten\, auch wenn gerade Sommer ist. Genau wie die lachenden Menschen auf dem Foto\, das es entdeckt hat. Also beschließen die Buchstaben einen Ausflug an den See zu machen. Was sie dort alles erleben\, wie das W die anderen Buchstaben überrascht\, ob das E tatsächlich seine Eislaufschuhe ausprobieren kann und was es mit dem geheimnisvollen Seeungeheuer auf sich hat …? \nFreut euch auf ein neues Abenteuer mit den Buchstabenfreunden! \nteilen teilen twittern merken mitteilen teilen teilen e-mail info 
URL:https://www.buchhandlungbeimaugarten.at/veranstaltung/christine-auer-liest-aus-ihrem-kinderbuch-das-e-am-see/
LOCATION:Café Schopenhauer\, Staudgasse 1\, 1180\, Österreich
ATTACH;FMTTYPE=image/jpeg:https://www.buchhandlungbeimaugarten.at/wp-content/uploads/Auer_E-am-See_Cover_Werbung.jpg
END:VEVENT
END:VCALENDAR