BEGIN:VCALENDAR
VERSION:2.0
PRODID:-//Buchhandlung beim Augarten - ECPv4.8.0.1//NONSGML v1.0//EN
CALSCALE:GREGORIAN
METHOD:PUBLISH
X-WR-CALNAME:Buchhandlung beim Augarten
X-ORIGINAL-URL:https://www.buchhandlungbeimaugarten.at
X-WR-CALDESC:Veranstaltungen für Buchhandlung beim Augarten
BEGIN:VEVENT
DTSTART;TZID=Europe/Vienna:20190204T183000
DTEND;TZID=Europe/Vienna:20190204T203000
DTSTAMP:20260425T120924
CREATED:20180615T102641Z
LAST-MODIFIED:20190111T130427Z
UID:3111-1549305000-1549312200@www.buchhandlungbeimaugarten.at
SUMMARY:Buchpäsentation "Der Spediteur Gottes"
DESCRIPTION:Gregor Ulrich Henckel Donnersmarck\, Altabt des Zisterzienserstifts Heiligenkreuz\, erzählt die Geschichte seines Lebens\, das vor allem eines ist: ungewöhnlich\, unkonventionell und bewegt. Geboren in eine Adelsfamilie\, die in Schlesien durch Steinkohlebergbau und Industrie zu Wohlstand gelangt\, strandet er als Flüchtlingskind des Zweiten Weltkriegs in Kärnten. Mit Ehrgeiz und wirtschaftlichem Geschick arbeitet er sich empor\, macht schon in jungen Jahren Karriere und wird Geschäftsführer der Speditionsfirma Schenker Spanien in Barcelona. Und dann\, völlig überraschend\, kommt es zum Bruch: Mit 34 Jahren tritt er ins Kloster ein\, wird Zisterziensermönch und Geistlicher. Eine Entscheidung\, die Rätsel aufgibt\, doch zu persönlicher Freiheit und Bestimmung führt. Auch hinter Klostermauern bleibt Abt Gregor offen für die Sorgen und Forderungen der Welt. Er sucht den Dialog zwischen Wirtschaft und Kirche\, bewährt sich als Krisenmanager und wirkt bis heute geistig-spirituell als Brückenbauer und Erneuerer. \nUm  Anmeldung wird gebeten. \nteilen teilen twittern merken mitteilen teilen teilen e-mail info 
URL:https://www.buchhandlungbeimaugarten.at/veranstaltung/buchpaesentation-der-spediteur-gottes/
LOCATION:Vortragssaal der Österreichischen Kulturvereinigung\, Hanuschgasse 3\, Wien\, Wien\, 1010\, Österreich
ATTACH;FMTTYPE=image/jpeg:https://www.buchhandlungbeimaugarten.at/wp-content/uploads/18-3-27-Ã–KV-Logo-Zentriert.jpg
END:VEVENT
END:VCALENDAR