BEGIN:VCALENDAR
VERSION:2.0
PRODID:-//Buchhandlung beim Augarten - ECPv4.8.0.1//NONSGML v1.0//EN
CALSCALE:GREGORIAN
METHOD:PUBLISH
X-WR-CALNAME:Buchhandlung beim Augarten
X-ORIGINAL-URL:https://www.buchhandlungbeimaugarten.at
X-WR-CALDESC:Veranstaltungen für Buchhandlung beim Augarten
BEGIN:VEVENT
DTSTART;TZID=Europe/Vienna:20170324T183000
DTEND;TZID=Europe/Vienna:20170324T220000
DTSTAMP:20260423T204755
CREATED:20170220T152235Z
LAST-MODIFIED:20170323T161439Z
UID:1200-1490380200-1490392800@www.buchhandlungbeimaugarten.at
SUMMARY:Lesung mit Musik und Performance
DESCRIPTION:BEZIEHUNGS WEISE \nLesung mit Musik und Performance \nKulturzentrum Amerlinghaus\, Stiftgasse 8\, 1070 Wien \nTexte: Sophie Reyer\, Elisabeth Klar\, Anita C. Schaub \nMusik: Denise Kronabitter \nPerformance: Lore Heuermann \nKonzept\, Organisation\, Moderation: Anita C. Schaub \nteilen teilen twittern merken mitteilen teilen teilen e-mail info 
URL:https://www.buchhandlungbeimaugarten.at/veranstaltung/beziehungs-weise/
LOCATION:Amerlinghaus\, Stiftgasse 8\, 1070 Wien\, WIen\, 1070\, Österreich
END:VEVENT
END:VCALENDAR